BEGIN:VCALENDAR
VERSION:2.0
PRODID:-//Mermaid Infinity - ECPv6.15.16.1//NONSGML v1.0//EN
CALSCALE:GREGORIAN
METHOD:PUBLISH
X-ORIGINAL-URL:https://mermaidinfinity.com
X-WR-CALDESC:Events for Mermaid Infinity
REFRESH-INTERVAL;VALUE=DURATION:PT1H
X-Robots-Tag:noindex
X-PUBLISHED-TTL:PT1H
BEGIN:VTIMEZONE
TZID:America/Chicago
BEGIN:DAYLIGHT
TZOFFSETFROM:-0600
TZOFFSETTO:-0500
TZNAME:CDT
DTSTART:20220313T080000
END:DAYLIGHT
BEGIN:STANDARD
TZOFFSETFROM:-0500
TZOFFSETTO:-0600
TZNAME:CST
DTSTART:20221106T070000
END:STANDARD
BEGIN:DAYLIGHT
TZOFFSETFROM:-0600
TZOFFSETTO:-0500
TZNAME:CDT
DTSTART:20230312T080000
END:DAYLIGHT
BEGIN:STANDARD
TZOFFSETFROM:-0500
TZOFFSETTO:-0600
TZNAME:CST
DTSTART:20231105T070000
END:STANDARD
BEGIN:DAYLIGHT
TZOFFSETFROM:-0600
TZOFFSETTO:-0500
TZNAME:CDT
DTSTART:20240310T080000
END:DAYLIGHT
BEGIN:STANDARD
TZOFFSETFROM:-0500
TZOFFSETTO:-0600
TZNAME:CST
DTSTART:20241103T070000
END:STANDARD
END:VTIMEZONE
BEGIN:VEVENT
DTSTART;TZID=America/Chicago:20231024T080000
DTEND;TZID=America/Chicago:20231024T080000
DTSTAMP:20260421T010129
CREATED:20230710T210855Z
LAST-MODIFIED:20230710T211115Z
UID:38349-1698134400-1698134400@mermaidinfinity.com
SUMMARY:Mermaid Parade
DESCRIPTION:Mermaid Parade (October 24\, 2023) in Coney Island\, New York. This parade is the largest mermaid parade in the world\, and it features hundreds of mermaids and mermen parading down the streets of Coney Island. \nhttps://www.brooklynvegan.com/the-coney-island-mermaid-parade-returned-for-2022-after-2-years-away-pics/ \nSince its inception in 1983\, the Coney Island Mermaid Parade has been a cherished tradition that has attracted countless New Yorkers and visitors from all corners of the country and the world. This annual event\, organized by Coney Island USA\, a non-profit arts organization in the heart of the iconic Coney Island amusement district\, has transformed into an extraordinary community celebration that is truly one of a kind. \nInspired by yesteryear’s vibrant Mardi Gras parades\, the Mermaid Parade has become the quintessential summer event in New York City. Originally conceptualized by Dick Zigun\, the former Artistic Director of CIUSA\, it has grown into the largest art parade in the nation\, captivating both locals and tourists alike. It serves as the official opening of summer\, infusing the city with excitement and anticipation for the warmer months ahead. \nThis extraordinary parade\, which pays homage to a century of Coney Island’s innovative spirit\, revelry\, and grandeur\, truly showcases the artistic vision of the masses. From the moment the procession begins\, you can expect to witness a breathtaking display of creativity and imagination. The parade features a marvelous array of participants\, including the regal King Neptune and Queen Mermaid\, fantastical sea creatures\, enchanting merfolk\, spirited marching bands\, and energetic dancing groups. But the creativity doesn’t stop there! Baby strollers also enthrall you transformed into works of art and magnificent mechanized floats that grace the streets. It is a testament to the limitless bounds of human imagination and the artistic prowess within the five boroughs’ vibrant communities and beyond. \nNot only does the Mermaid Parade ignite a true celebration of exceptional artistry\, but it also catalyzes the entrepreneurial spirit of New York City. Drawing hundreds of thousands of people to the amusement area provides a substantial economic boost to the local businesses\, ensuring a successful summer season for all. This dynamic event would not be possible without the support of public funds from the NYC Department of Cultural Affairs\, in partnership with the City Council\, demonstrating the city’s commitment to fostering and nurturing the arts. \nFor those who want to relive the magic of the past Mermaid Parades\, we invite you to take a delightful trip down memory lane. Explore the captivating photos and stories of the parade’s esteemed Royalty\, capturing the essence of each year’s unique celebration and the spirit of Coney Island’s rich history. \nJoin us in continuing this cherished tradition\, embracing the vibrant and inclusive nature of the Mermaid Parade. Mark your calendars and prepare to be enchanted as we celebrate the artistic expression\, entrepreneurial drive\, and community pride that makes New York City the cultural melting pot that it is. \nRemember\, the Mermaid Parade is more than just a parade—it’s a celebration of our collective imagination and the enduring spirit of Coney Island. Come and experience the magic for yourself\, and be part of this extraordinary event that has become integral to New York City’s cultural fabric.
URL:https://mermaidinfinity.com/event/mermaid-parade/
CATEGORIES:Parade
ATTACH;FMTTYPE=image/jpeg:https://mermaidinfinity.com/wp-content/uploads/2023/07/coneyislamdermaidparade.jpeg
END:VEVENT
END:VCALENDAR