BEGIN:VCALENDAR
VERSION:2.0
PRODID:-//Mermaid Infinity - ECPv6.15.16.1//NONSGML v1.0//EN
CALSCALE:GREGORIAN
METHOD:PUBLISH
X-ORIGINAL-URL:https://mermaidinfinity.com
X-WR-CALDESC:Events for Mermaid Infinity
REFRESH-INTERVAL;VALUE=DURATION:PT1H
X-Robots-Tag:noindex
X-PUBLISHED-TTL:PT1H
BEGIN:VTIMEZONE
TZID:America/Chicago
BEGIN:DAYLIGHT
TZOFFSETFROM:-0600
TZOFFSETTO:-0500
TZNAME:CDT
DTSTART:20200308T080000
END:DAYLIGHT
BEGIN:STANDARD
TZOFFSETFROM:-0500
TZOFFSETTO:-0600
TZNAME:CST
DTSTART:20201101T070000
END:STANDARD
BEGIN:DAYLIGHT
TZOFFSETFROM:-0600
TZOFFSETTO:-0500
TZNAME:CDT
DTSTART:20210314T080000
END:DAYLIGHT
BEGIN:STANDARD
TZOFFSETFROM:-0500
TZOFFSETTO:-0600
TZNAME:CST
DTSTART:20211107T070000
END:STANDARD
BEGIN:DAYLIGHT
TZOFFSETFROM:-0600
TZOFFSETTO:-0500
TZNAME:CDT
DTSTART:20220313T080000
END:DAYLIGHT
BEGIN:STANDARD
TZOFFSETFROM:-0500
TZOFFSETTO:-0600
TZNAME:CST
DTSTART:20221106T070000
END:STANDARD
END:VTIMEZONE
BEGIN:VEVENT
DTSTART;VALUE=DATE:20210814
DTEND;VALUE=DATE:20210815
DTSTAMP:20260421T023102
CREATED:20210327T002321Z
LAST-MODIFIED:20210327T002321Z
UID:34315-1628899200-1628985599@mermaidinfinity.com
SUMMARY:Aquamermaid Championship
DESCRIPTION:SHOW OFF YOUR MERMAID SWIMMING SKILLS AND COMPETE IN THE  AQUAMERMAID CHAMPIONSHIP!\nPerform your own mermaid swimming routine in a giant aquarium and compete for the chance to perform and win a trip to China at the World Mermaid Championship 2021!\n\nDate: August 14\, 2021\nLocation: Montreal Canada.\n\nRegistration:\n\n\nOnly 50 competitor spots are available\nAll merfolk are welcome to compete (all gender competition)\nCompetitors must be a minimum age of 16 years old\nSpectators of all ages are welcome!
URL:https://mermaidinfinity.com/event/aquamermaid-championship/
CATEGORIES:Competitions
ATTACH;FMTTYPE=image/jpeg:https://mermaidinfinity.com/wp-content/uploads/2021/03/aquamarine.jpeg
END:VEVENT
BEGIN:VEVENT
DTSTART;TZID=America/Chicago:20210521T080000
DTEND;TZID=America/Chicago:20210523T170000
DTSTAMP:20260421T023102
CREATED:20210327T003235Z
LAST-MODIFIED:20210327T003336Z
UID:34319-1621584000-1621789200@mermaidinfinity.com
SUMMARY:Miss Mermaid USA 2021
DESCRIPTION:Miss Mermaid competitions are a unique series of beauty pageants bringing mermaiding\, modeling\, and ocean activism together on a worldwide scale. Mermaid Queens from around the world compete in skills such as underwater modeling\, freediving\, costume design\, and traditional pageantry while supporting causes to help Save The Oceans. \nMiss Mermaid USA is the exclusive official platform for sending our winning queens to represent the USA at Miss Mermaid International.
URL:https://mermaidinfinity.com/event/miss-mermaid-usa-2021/
CATEGORIES:Competitions
ATTACH;FMTTYPE=image/jpeg:https://mermaidinfinity.com/wp-content/uploads/2021/03/missmermaid.jpeg
END:VEVENT
END:VCALENDAR